BEGIN:VCALENDAR
VERSION:2.0
PRODID:-//eventon.com NONSGML v1.0//EN
CALSCALE:GREGORIAN
METHOD:PUBLISH
BEGIN:VEVENT
UID:69eb4e2ea98fb
DTSTAMP:20260424T110414Z
DTSTART:20260526
DTEND:20260527
LOCATION:
SUMMARY:Amateur Night Tuesdays
DESCRIPTION:Amateur Night Tuesdays\nhttps://devilstriangle.com/events/amate
 ur-night-tuesdays/var/ri-117.l-L1
URL:https://devilstriangle.com/events/amateur-night-tuesdays/var/ri-117.l-L1
END:VEVENT
END:VCALENDAR