BEGIN:VCALENDAR
VERSION:2.0
PRODID:-//eventon.com NONSGML v1.0//EN
CALSCALE:GREGORIAN
METHOD:PUBLISH
BEGIN:VEVENT
UID:69e91c3a2575d
DTSTAMP:20260422T190634Z
DTSTART:20241210
DTEND:20241211
LOCATION:
SUMMARY:Amateur Night Tuesdays
DESCRIPTION:Amateur Night Tuesdays\nhttps://devilstriangle.com/events/amate
 ur-night-tuesdays/var/ri-41.l-L1
URL:https://devilstriangle.com/events/amateur-night-tuesdays/var/ri-41.l-L1
END:VEVENT
END:VCALENDAR