BEGIN:VCALENDAR
VERSION:2.0
PRODID:-//eventon.com NONSGML v1.0//EN
CALSCALE:GREGORIAN
METHOD:PUBLISH
BEGIN:VEVENT
UID:69e7132291aa2
DTSTAMP:20260421T060314Z
DTSTART:20250121
DTEND:20250122
LOCATION:
SUMMARY:Amateur Night Tuesdays
DESCRIPTION:Amateur Night Tuesdays\nhttps://devilstriangle.com/events/amate
 ur-night-tuesdays/var/ri-47.l-L1
URL:https://devilstriangle.com/events/amateur-night-tuesdays/var/ri-47.l-L1
END:VEVENT
END:VCALENDAR