BEGIN:VCALENDAR
VERSION:2.0
PRODID:-//eventon.com NONSGML v1.0//EN
CALSCALE:GREGORIAN
METHOD:PUBLISH
BEGIN:VEVENT
UID:69e9fe618ed6e
DTSTAMP:20260423T111129Z
DTSTART:20250211
DTEND:20250212
LOCATION:
SUMMARY:Amateur Night Tuesdays
DESCRIPTION:Amateur Night Tuesdays\nhttps://devilstriangle.com/events/amate
 ur-night-tuesdays/var/ri-50.l-L1
URL:https://devilstriangle.com/events/amateur-night-tuesdays/var/ri-50.l-L1
END:VEVENT
END:VCALENDAR