BEGIN:VCALENDAR
VERSION:2.0
PRODID:-//eventon.com NONSGML v1.0//EN
CALSCALE:GREGORIAN
METHOD:PUBLISH
BEGIN:VEVENT
UID:69ed3111a23a9
DTSTAMP:20260425T212433Z
DTSTART:20250415
DTEND:20250416
LOCATION:
SUMMARY:Amateur Night Tuesdays
DESCRIPTION:Amateur Night Tuesdays\nhttps://devilstriangle.com/events/amate
 ur-night-tuesdays/var/ri-59.l-L1
URL:https://devilstriangle.com/events/amateur-night-tuesdays/var/ri-59.l-L1
END:VEVENT
END:VCALENDAR