BEGIN:VCALENDAR
VERSION:2.0
PRODID:-//eventon.com NONSGML v1.0//EN
CALSCALE:GREGORIAN
METHOD:PUBLISH
BEGIN:VEVENT
UID:69e5ee83a8759
DTSTAMP:20260420T091443Z
DTSTART:20260408
DTEND:20260409
LOCATION:
SUMMARY:Amazon Appreciation Wednesdays
DESCRIPTION:Amazon Appreciation Wednesdays\nhttps://devilstriangle.com/even
 ts/amazon-wednesdays/var/ri-110.l-L1
URL:https://devilstriangle.com/events/amazon-wednesdays/var/ri-110.l-L1
END:VEVENT
END:VCALENDAR