BEGIN:VCALENDAR
VERSION:2.0
PRODID:-//eventon.com NONSGML v1.0//EN
CALSCALE:GREGORIAN
METHOD:PUBLISH
BEGIN:VEVENT
UID:69e6089e2fad4
DTSTAMP:20260420T110606Z
DTSTART:20260527
DTEND:20260528
LOCATION:
SUMMARY:Amazon Appreciation Wednesdays
DESCRIPTION:Amazon Appreciation Wednesdays\nhttps://devilstriangle.com/even
 ts/amazon-wednesdays/var/ri-117.l-L1
URL:https://devilstriangle.com/events/amazon-wednesdays/var/ri-117.l-L1
END:VEVENT
END:VCALENDAR