BEGIN:VCALENDAR
VERSION:2.0
PRODID:-//eventon.com NONSGML v1.0//EN
CALSCALE:GREGORIAN
METHOD:PUBLISH
BEGIN:VEVENT
UID:69eca0e39fa2e
DTSTAMP:20260425T110923Z
DTSTART:20250115
DTEND:20250116
LOCATION:
SUMMARY:Amazon Appreciation Wednesdays
DESCRIPTION:Amazon Appreciation Wednesdays\nhttps://devilstriangle.com/even
 ts/amazon-wednesdays/var/ri-46.l-L1
URL:https://devilstriangle.com/events/amazon-wednesdays/var/ri-46.l-L1
END:VEVENT
END:VCALENDAR