BEGIN:VCALENDAR
VERSION:2.0
PRODID:-//eventon.com NONSGML v1.0//EN
CALSCALE:GREGORIAN
METHOD:PUBLISH
BEGIN:VEVENT
UID:69ed0e0154615
DTSTAMP:20260425T185457Z
DTSTART:20250212
DTEND:20250213
LOCATION:
SUMMARY:Amazon Appreciation Wednesdays
DESCRIPTION:Amazon Appreciation Wednesdays\nhttps://devilstriangle.com/even
 ts/amazon-wednesdays/var/ri-50.l-L1
URL:https://devilstriangle.com/events/amazon-wednesdays/var/ri-50.l-L1
END:VEVENT
END:VCALENDAR