BEGIN:VCALENDAR
VERSION:2.0
PRODID:-//eventon.com NONSGML v1.0//EN
CALSCALE:GREGORIAN
METHOD:PUBLISH
BEGIN:VEVENT
UID:69e60811f26a0
DTSTAMP:20260420T110345Z
DTSTART:20240912
DTEND:20240913
LOCATION:
SUMMARY:Discounted Admission
DESCRIPTION:Discounted Admission\nhttps://devilstriangle.com/events/discoun
 ted-admission/var/ri-197.l-L1
URL:https://devilstriangle.com/events/discounted-admission/var/ri-197.l-L1
END:VEVENT
END:VCALENDAR