BEGIN:VCALENDAR
VERSION:2.0
PRODID:-//eventon.com NONSGML v1.0//EN
CALSCALE:GREGORIAN
METHOD:PUBLISH
BEGIN:VEVENT
UID:69e61e1402b7f
DTSTAMP:20260420T123740Z
DTSTART:20240913
DTEND:20240914
LOCATION:
SUMMARY:Discounted Admission
DESCRIPTION:Discounted Admission\nhttps://devilstriangle.com/events/discoun
 ted-admission/var/ri-198.l-L1
URL:https://devilstriangle.com/events/discounted-admission/var/ri-198.l-L1
END:VEVENT
END:VCALENDAR