BEGIN:VCALENDAR
VERSION:2.0
PRODID:-//eventon.com NONSGML v1.0//EN
CALSCALE:GREGORIAN
METHOD:PUBLISH
BEGIN:VEVENT
UID:69e8abbd752b4
DTSTAMP:20260422T110637Z
DTSTART:20240914
DTEND:20240915
LOCATION:
SUMMARY:Discounted Admission
DESCRIPTION:Discounted Admission\nhttps://devilstriangle.com/events/discoun
 ted-admission/var/ri-199.l-L1
URL:https://devilstriangle.com/events/discounted-admission/var/ri-199.l-L1
END:VEVENT
END:VCALENDAR