BEGIN:VCALENDAR
VERSION:2.0
PRODID:-//eventon.com NONSGML v1.0//EN
CALSCALE:GREGORIAN
METHOD:PUBLISH
BEGIN:VEVENT
UID:69e8c1fbe8152
DTSTAMP:20260422T124131Z
DTSTART:20240915
DTEND:20240916
LOCATION:
SUMMARY:Discounted Admission
DESCRIPTION:Discounted Admission\nhttps://devilstriangle.com/events/discoun
 ted-admission/var/ri-200.l-L1
URL:https://devilstriangle.com/events/discounted-admission/var/ri-200.l-L1
END:VEVENT
END:VCALENDAR