BEGIN:VCALENDAR
VERSION:2.0
PRODID:-//eventon.com NONSGML v1.0//EN
CALSCALE:GREGORIAN
METHOD:PUBLISH
BEGIN:VEVENT
UID:69e967dfc1705
DTSTAMP:20260423T002919Z
DTSTART:20241002
DTEND:20241003
LOCATION:
SUMMARY:Discounted Admission
DESCRIPTION:Discounted Admission\nhttps://devilstriangle.com/events/discoun
 ted-admission/var/ri-217.l-L1
URL:https://devilstriangle.com/events/discounted-admission/var/ri-217.l-L1
END:VEVENT
END:VCALENDAR