BEGIN:VCALENDAR
VERSION:2.0
PRODID:-//eventon.com NONSGML v1.0//EN
CALSCALE:GREGORIAN
METHOD:PUBLISH
BEGIN:VEVENT
UID:69ecbc29dda79
DTSTAMP:20260425T130545Z
DTSTART:20241003
DTEND:20241004
LOCATION:
SUMMARY:Discounted Admission
DESCRIPTION:Discounted Admission\nhttps://devilstriangle.com/events/discoun
 ted-admission/var/ri-218.l-L1
URL:https://devilstriangle.com/events/discounted-admission/var/ri-218.l-L1
END:VEVENT
END:VCALENDAR