BEGIN:VCALENDAR
VERSION:2.0
PRODID:-//eventon.com NONSGML v1.0//EN
CALSCALE:GREGORIAN
METHOD:PUBLISH
BEGIN:VEVENT
UID:69ebe00862785
DTSTAMP:20260424T212632Z
DTSTART:20240228
DTEND:20240229
LOCATION:
SUMMARY:Bachelor Parties
DESCRIPTION:Bachelor Parties\nhttps://devilstriangle.com/events/bachelor-pa
 rties/
URL:https://devilstriangle.com/events/bachelor-parties/
END:VEVENT
END:VCALENDAR