BEGIN:VCALENDAR
VERSION:2.0
PRODID:-//eventon.com NONSGML v1.0//EN
CALSCALE:GREGORIAN
METHOD:PUBLISH
BEGIN:VEVENT
UID:69eb4b8476bea
DTSTAMP:20260424T105252Z
DTSTART:20241010
DTEND:20241011
LOCATION:
SUMMARY:VIP Rooms
DESCRIPTION:VIP Rooms\nhttps://devilstriangle.com/events/vip-rooms/var/ri-2
 25.l-L1
URL:https://devilstriangle.com/events/vip-rooms/var/ri-225.l-L1
END:VEVENT
END:VCALENDAR