BEGIN:VCALENDAR
VERSION:2.0
PRODID:-//eventon.com NONSGML v1.0//EN
CALSCALE:GREGORIAN
METHOD:PUBLISH
BEGIN:VEVENT
UID:69eb7af1bf7ff
DTSTAMP:20260424T141513Z
DTSTART:20241011
DTEND:20241012
LOCATION:
SUMMARY:VIP Rooms
DESCRIPTION:VIP Rooms\nhttps://devilstriangle.com/events/vip-rooms/var/ri-2
 26.l-L1
URL:https://devilstriangle.com/events/vip-rooms/var/ri-226.l-L1
END:VEVENT
END:VCALENDAR